BEGIN:VCALENDAR
VERSION:2.0
PRODID:-// - ECPv6.6.4.2//NONSGML v1.0//EN
CALSCALE:GREGORIAN
METHOD:PUBLISH
X-ORIGINAL-URL:https://bonnerbuchmessemigration.de
X-WR-CALDESC:Veranstaltungen für 
REFRESH-INTERVAL;VALUE=DURATION:PT1H
X-Robots-Tag:noindex
X-PUBLISHED-TTL:PT1H
BEGIN:VTIMEZONE
TZID:Europe/Berlin
BEGIN:DAYLIGHT
TZOFFSETFROM:+0100
TZOFFSETTO:+0200
TZNAME:CEST
DTSTART:20240331T010000
END:DAYLIGHT
BEGIN:STANDARD
TZOFFSETFROM:+0200
TZOFFSETTO:+0100
TZNAME:CET
DTSTART:20241027T010000
END:STANDARD
END:VTIMEZONE
BEGIN:VEVENT
DTSTART;TZID=Europe/Berlin:20241115T090000
DTEND;TZID=Europe/Berlin:20241115T103000
DTSTAMP:20260423T221628
CREATED:20241028T124258Z
LAST-MODIFIED:20241028T142716Z
UID:3744-1731661200-1731666600@bonnerbuchmessemigration.de
SUMMARY:Als wir Adler wurden
DESCRIPTION:Schullesung \n\n\n\nFreitag\, 15.11.202409:00 UhrGroßer Saal \n\n\n\nWenn aus Freunden Feinde werden … \n\n\n\n„Wer sich nicht wie ein Adler benimmt\, wird ganz schnell zur Beute.“ Das ist die Parole von Bo\, Janniks älterem Bruder und Vorbild. Er gibt die Geschichten vor\, die Jannik und seine Freunde nachspielen. Anfangs sind ihre Spiele harmlos. Aber seit sie Mitglieder der „Adler“ geworden sind\, zählt vor allem\, dass sie stark sind und alle gleich. Loni war bisher immer Janniks beste Freundin\, doch jetzt fällt sie auf\, weil ihre Hautfarbe anders ist. Angst greift um sich\, und eines Tages ist Loni plötzlich verschwunden. Und aus dem Spiel wird bitterer Ernst. \n\n\n\nUticha Marmon *1979\, studierte Dramaturgie\, Literaturwissenschaft und Pädagogik in Mainz\, Wien und München. Sie arbeitete als Theater-Dramaturgin und war einige Jahre als Lektorin und Regisseurin bei einem großen Hörbuchverlag tätig\, ehe sie sich selbstständig machte. Seitdem schreibt sie Kinderbücher\, produziert als Dramaturgin und Regisseurin Hörbücher sowie Hörspiele und engagiert sich in der Lese- und Zuhörförderung.
URL:https://bonnerbuchmessemigration.de/event/als-wir-adler-wurden/
END:VEVENT
BEGIN:VEVENT
DTSTART;TZID=Europe/Berlin:20241115T110000
DTEND;TZID=Europe/Berlin:20241115T123000
DTSTAMP:20260423T221628
CREATED:20241028T124045Z
LAST-MODIFIED:20241028T142645Z
UID:3742-1731668400-1731673800@bonnerbuchmessemigration.de
SUMMARY:Jeden Tag Spaghetti
DESCRIPTION:Schullesung \n\n\n\nFreitag\, 15.11.202411:00 UhrGroßer Saal \n\n\n\nDie Frage „Aber wo kommst du EIGENTLICH her?“ … begleitet nicht nur Lucia schon ein Leben lang. \n\n\n\nIn diesem sehr persönlichen Buch geht es – natürlich – um Spaghetti und Tomatensoße! Aber auch von dieser ständigen Frage nach der Herkunft\, dem Migrationshinter- oder Vordergrund\, von Schubladendenken und davon\, wie es sich anfühlt\, von hier zu sein\, aber eben irgendwie auch nicht. Wie in einem Tagebuch erzählt Lucia mit skizzenhaften Illustrationen von eigenen Erfahrungen und Geschichten aus ihrem Freundeskreis und möchte so für mehr Mitgefühl im Umgang mit Menschen sensibel machen. \n\n\n\nLucia Zamolo\, *1991 in Münster\, studierte Design sowie Englische Philologie und Bildungswissenschaften. „Rot ist doch schön“\, ihre Bachelorarbeit\, war ihr Debüt als Autorin und Illustratorin. Ihr zweites Buch „Elefant auf der Brust“ wurde von der Stiftung Buchkunst als eines der 25 schönsten Bücher 2021 prämiert. „Jeden Tag Spaghetti“\, ihr drittes autobiografisches Buch\, wurde für den Jugendliteraturpreis nominiert.
URL:https://bonnerbuchmessemigration.de/event/jeden-tag-spaghetti/
END:VEVENT
BEGIN:VEVENT
DTSTART;TZID=Europe/Berlin:20241115T170000
DTEND;TZID=Europe/Berlin:20241115T190000
DTSTAMP:20260423T221628
CREATED:20241024T131159Z
LAST-MODIFIED:20241028T142607Z
UID:3718-1731690000-1731697200@bonnerbuchmessemigration.de
SUMMARY:Eröffnung der 14. Bonner Buchmesse Migration
DESCRIPTION:Freitag\, 15.11.202417.00 UhrGroßer Saal
URL:https://bonnerbuchmessemigration.de/event/eroeffnung-der-14-bonner-buchmesse-migration/
CATEGORIES:bonner
END:VEVENT
BEGIN:VEVENT
DTSTART;TZID=Europe/Berlin:20241115T190000
DTEND;TZID=Europe/Berlin:20241115T210000
DTSTAMP:20260423T221628
CREATED:20241028T123352Z
LAST-MODIFIED:20241028T142322Z
UID:3737-1731697200-1731704400@bonnerbuchmessemigration.de
SUMMARY:Heimat sucht Seele
DESCRIPTION:Freitag\, 15.11.202419:00-21:00 UhrGroßer Saal \n\n\n\nFilm und Gespräch \n\n\n\nD 2021 / Regie: Hille Norden / 97 min / Sprachfassung: Deutsch und Arabisch mit dt. UT \n\n\n\nAls Saher 2015 aus Syrien floh\, war er sich sicher\, seine Frau Lubna und seine zwei Söhne ganz schnell zu sich holen zu können. Aber dann wird der Familiennachzug ausgesetzt\, und eine lange Zeit des Wartens beginnt. Der Anwalt aus Syrien integriert sich schnell\, arbeitet\, lernt Deutsch und Freunde kennen. Unter anderem Insa\, die Mutter der Regisseurin Hille Norden. Nach vier ewigen Jahren des Wartens die Nachricht: Sahers Familie kommt\, und zwar bald! Trotz aller Freude stellt sich die Frage\, was geschieht\, wenn Saher\, der schon seit vier Jahren die Deutschen kennen und lieben zu lernt\, auf seine Familie trifft\, die so lange ohne ihn auskommen musste und vier Jahre mehr Krieg erlebt hat. „Heimat sucht Seele“ begleitet Saher\, Lubna\, Melad (13)\, Zeen (10) und Insa über die Dauer ihres ersten Jahres. Der Film zeigt die Folgen von unfreiwilliger Trennung sowie Entwurzelung und diskutiert liebevoll die Möglichkeiten und Grenzen von Integration im Rahmen eines intimen Familienportraits. \n\n\n\nAusgezeichnet mit dem Integrationspreis Norderneyer Engel vom Int. Filmfest Emden. \n\n\n\nHille Norden (*1998) ist Drehbuchautorin und Regisseu- rin aus Kiel. Ihre meist dokumentarischen Arbeiten widmen sich gesellschaftsrelevanten Themen. Ihr aktuelles Projekt „Ficken für Freiheit“ wurde für den Deutschen Drehbuchpreis nominiert und erhielt Drehbuchförderung von der Bundesbeauftragten für Kultur und Medien.
URL:https://bonnerbuchmessemigration.de/event/heimat-sucht-seele/
END:VEVENT
END:VCALENDAR